BEGIN:VCALENDAR
VERSION:2.0
PRODID:-//Fairwinds Golf Course - ECPv6.15.18//NONSGML v1.0//EN
CALSCALE:GREGORIAN
METHOD:PUBLISH
X-ORIGINAL-URL:https://www.fairwindsgolf.com
X-WR-CALDESC:Events for Fairwinds Golf Course
REFRESH-INTERVAL;VALUE=DURATION:PT1H
X-Robots-Tag:noindex
X-PUBLISHED-TTL:PT1H
BEGIN:VTIMEZONE
TZID:America/New_York
BEGIN:DAYLIGHT
TZOFFSETFROM:-0500
TZOFFSETTO:-0400
TZNAME:EDT
DTSTART:20240310T070000
END:DAYLIGHT
BEGIN:STANDARD
TZOFFSETFROM:-0400
TZOFFSETTO:-0500
TZNAME:EST
DTSTART:20241103T060000
END:STANDARD
BEGIN:DAYLIGHT
TZOFFSETFROM:-0500
TZOFFSETTO:-0400
TZNAME:EDT
DTSTART:20250309T070000
END:DAYLIGHT
BEGIN:STANDARD
TZOFFSETFROM:-0400
TZOFFSETTO:-0500
TZNAME:EST
DTSTART:20251102T060000
END:STANDARD
BEGIN:DAYLIGHT
TZOFFSETFROM:-0500
TZOFFSETTO:-0400
TZNAME:EDT
DTSTART:20260308T070000
END:DAYLIGHT
BEGIN:STANDARD
TZOFFSETFROM:-0400
TZOFFSETTO:-0500
TZNAME:EST
DTSTART:20261101T060000
END:STANDARD
END:VTIMEZONE
BEGIN:VEVENT
DTSTART;TZID=America/New_York:20251001T091500
DTEND;TZID=America/New_York:20251001T110000
DTSTAMP:20260424T051446
CREATED:20251001T012525Z
LAST-MODIFIED:20251001T015308Z
UID:10000352-1759310100-1759316400@www.fairwindsgolf.com
SUMMARY:Co Ed Clinic - Putting
DESCRIPTION:ONE FORM PER PERSON! \nTo register use the form below: \n﻿Loading…
URL:https://www.fairwindsgolf.com/event/co-ed-clinic-putting-12/
ATTACH;FMTTYPE=image/png:https://www.fairwindsgolf.com/wp-content/uploads/sites/8875/2025/09/Screenshot-2025-09-30-at-9.48.55-PM.png
END:VEVENT
BEGIN:VEVENT
DTSTART;TZID=America/New_York:20251004T110000
DTEND;TZID=America/New_York:20251004T120000
DTSTAMP:20260424T051446
CREATED:20250915T194735Z
LAST-MODIFIED:20250917T180116Z
UID:10000345-1759575600-1759579200@www.fairwindsgolf.com
SUMMARY:Weelinks Junior Golf Clinic
DESCRIPTION:Please use the form below to register:\nLoading…\n 
URL:https://www.fairwindsgolf.com/event/weelinks-junior-golf-clinic/
ATTACH;FMTTYPE=image/jpeg:https://www.fairwindsgolf.com/wp-content/uploads/sites/8875/2025/09/Junior-2.jpg
END:VEVENT
BEGIN:VEVENT
DTSTART;TZID=America/New_York:20251004T143000
DTEND;TZID=America/New_York:20251004T163000
DTSTAMP:20260424T051446
CREATED:20250917T174538Z
LAST-MODIFIED:20250917T182352Z
UID:10000349-1759588200-1759595400@www.fairwindsgolf.com
SUMMARY:Get Out & Play -Advanced Golfers
DESCRIPTION:To register use the form below:\nLoading…
URL:https://www.fairwindsgolf.com/event/get-out-play/
ATTACH;FMTTYPE=image/jpeg:https://www.fairwindsgolf.com/wp-content/uploads/sites/8875/2025/09/Junior-Golf-Clinics-3.jpg
END:VEVENT
BEGIN:VEVENT
DTSTART;TZID=America/New_York:20251008T091500
DTEND;TZID=America/New_York:20251008T110000
DTSTAMP:20260424T051446
CREATED:20251001T013637Z
LAST-MODIFIED:20251002T195250Z
UID:10000357-1759914900-1759921200@www.fairwindsgolf.com
SUMMARY:Co Ed Clinic: Chipping and Around the Green
DESCRIPTION:Loading…
URL:https://www.fairwindsgolf.com/event/co-ed-clinic-chipping-and-around-the-green-4/
ATTACH;FMTTYPE=image/png:https://www.fairwindsgolf.com/wp-content/uploads/sites/8875/2025/09/Screenshot-2025-09-30-at-9.54.37-PM.png
END:VEVENT
BEGIN:VEVENT
DTSTART;TZID=America/New_York:20251011T110000
DTEND;TZID=America/New_York:20251011T120000
DTSTAMP:20260424T051446
CREATED:20250915T194839Z
LAST-MODIFIED:20251011T161423Z
UID:10000346-1760180400-1760184000@www.fairwindsgolf.com
SUMMARY:Weelinks Junior Golf Clinic -Canceled
DESCRIPTION:To register please use the form below:\nLoading…
URL:https://www.fairwindsgolf.com/event/weelinks-junior-golf-clinic-2/
ATTACH;FMTTYPE=image/jpeg:https://www.fairwindsgolf.com/wp-content/uploads/sites/8875/2025/09/Junior-2.jpg
END:VEVENT
BEGIN:VEVENT
DTSTART;TZID=America/New_York:20251011T143000
DTEND;TZID=America/New_York:20251011T163000
DTSTAMP:20260424T051446
CREATED:20250917T174705Z
LAST-MODIFIED:20251011T161528Z
UID:10000350-1760193000-1760200200@www.fairwindsgolf.com
SUMMARY:Canceled -Get Out & Play - Advanced Junior Golfers
DESCRIPTION:To register use the form below:\nLoading…
URL:https://www.fairwindsgolf.com/event/get-out-play-advanced-junior-golfers-3/
ATTACH;FMTTYPE=image/jpeg:https://www.fairwindsgolf.com/wp-content/uploads/sites/8875/2025/09/Junior-Golf-Clinics-3.jpg
END:VEVENT
BEGIN:VEVENT
DTSTART;TZID=America/New_York:20251015T093000
DTEND;TZID=America/New_York:20251015T110000
DTSTAMP:20260424T051446
CREATED:20251001T013849Z
LAST-MODIFIED:20251019T200209Z
UID:10000358-1760520600-1760526000@www.fairwindsgolf.com
SUMMARY:Co Ed Clinic: Pitching and Bunker Play
DESCRIPTION:
URL:https://www.fairwindsgolf.com/event/co-ed-clinic-pitching-and-bunker-play/
ATTACH;FMTTYPE=image/png:https://www.fairwindsgolf.com/wp-content/uploads/sites/8875/2025/09/Screenshot-2025-09-30-at-9.55.47-PM.png
END:VEVENT
BEGIN:VEVENT
DTSTART;TZID=America/New_York:20251018T110000
DTEND;TZID=America/New_York:20251018T120000
DTSTAMP:20260424T051446
CREATED:20250915T194933Z
LAST-MODIFIED:20250917T175650Z
UID:10000347-1760785200-1760788800@www.fairwindsgolf.com
SUMMARY:Weelinks Junior Golf Clinic
DESCRIPTION:To register please use the form below:\nLoading…
URL:https://www.fairwindsgolf.com/event/weelinks-junior-golf-clinic-3/
ATTACH;FMTTYPE=image/jpeg:https://www.fairwindsgolf.com/wp-content/uploads/sites/8875/2025/09/Junior-2.jpg
END:VEVENT
BEGIN:VEVENT
DTSTART;TZID=America/New_York:20251020T100000
DTEND;TZID=America/New_York:20251020T140000
DTSTAMP:20260424T051446
CREATED:20251007T002022Z
LAST-MODIFIED:20251013T163213Z
UID:10000363-1760954400-1760968800@www.fairwindsgolf.com
SUMMARY:Srixon Demo Day
DESCRIPTION:To register please use the link below: \nhttps://us.dunlopsports.com/srixon/srixon-account-event-days.html?account_id=1893887
URL:https://www.fairwindsgolf.com/event/srixon-demo-day/
ATTACH;FMTTYPE=image/png:https://www.fairwindsgolf.com/wp-content/uploads/sites/8875/2025/10/Screenshot-2025-10-06-at-8.20.51-PM.png
END:VEVENT
BEGIN:VEVENT
DTSTART;TZID=America/New_York:20251022T093000
DTEND;TZID=America/New_York:20251022T110000
DTSTAMP:20260424T051446
CREATED:20251001T014027Z
LAST-MODIFIED:20251017T190348Z
UID:10000359-1761125400-1761130800@www.fairwindsgolf.com
SUMMARY:Co Ed Clinic : Irons & Basic Fundamentals/ CURRENTLY FULL
DESCRIPTION:TO BE ADDED TO THE WAITLIST PLEASE CALL THE PROSHOP 772-462-4653 X 6
URL:https://www.fairwindsgolf.com/event/co-ed-clinic-irons-basic-fundamentals-10/
ATTACH;FMTTYPE=image/png:https://www.fairwindsgolf.com/wp-content/uploads/sites/8875/2025/09/Screenshot-2025-09-30-at-9.57.45-PM.png
END:VEVENT
BEGIN:VEVENT
DTSTART;TZID=America/New_York:20251025T110000
DTEND;TZID=America/New_York:20251025T120000
DTSTAMP:20260424T051446
CREATED:20250915T195142Z
LAST-MODIFIED:20250917T175554Z
UID:10000348-1761390000-1761393600@www.fairwindsgolf.com
SUMMARY:Weelinks Junior Golf Clinic
DESCRIPTION:To register please use the form below:\nLoading…
URL:https://www.fairwindsgolf.com/event/weelinks-junior-golf-program/
ATTACH;FMTTYPE=image/jpeg:https://www.fairwindsgolf.com/wp-content/uploads/sites/8875/2025/09/Junior-2.jpg
END:VEVENT
BEGIN:VEVENT
DTSTART;TZID=America/New_York:20251027T100000
DTEND;TZID=America/New_York:20251027T140000
DTSTAMP:20260424T051446
CREATED:20251007T002542Z
LAST-MODIFIED:20251007T002703Z
UID:10000365-1761559200-1761573600@www.fairwindsgolf.com
SUMMARY:Wilson Demo Day
DESCRIPTION:More information coming soon….
URL:https://www.fairwindsgolf.com/event/wilson-demo-day/
ATTACH;FMTTYPE=image/png:https://www.fairwindsgolf.com/wp-content/uploads/sites/8875/2025/10/Screenshot-2025-10-06-at-8.26.39-PM.png
END:VEVENT
BEGIN:VEVENT
DTSTART;TZID=America/New_York:20251029T093000
DTEND;TZID=America/New_York:20251029T110000
DTSTAMP:20260424T051446
CREATED:20251001T014302Z
LAST-MODIFIED:20251023T232144Z
UID:10000360-1761730200-1761735600@www.fairwindsgolf.com
SUMMARY:Co Ed Clinic: Hybrids & Fairway Metals- Currently Full
DESCRIPTION:To be added to the Waitlist please email abreua@stlucieco.org.
URL:https://www.fairwindsgolf.com/event/co-ed-clinic-hybrids-fairway-metals-9/
ATTACH;FMTTYPE=image/png:https://www.fairwindsgolf.com/wp-content/uploads/sites/8875/2025/09/Screenshot-2025-09-30-at-9.59.54-PM.png
END:VEVENT
END:VCALENDAR