BEGIN:VCALENDAR
VERSION:2.0
PRODID:-//Fairwinds Golf Course - ECPv6.15.18//NONSGML v1.0//EN
CALSCALE:GREGORIAN
METHOD:PUBLISH
X-WR-CALNAME:Fairwinds Golf Course
X-ORIGINAL-URL:https://www.fairwindsgolf.com
X-WR-CALDESC:Events for Fairwinds Golf Course
REFRESH-INTERVAL;VALUE=DURATION:PT1H
X-Robots-Tag:noindex
X-PUBLISHED-TTL:PT1H
BEGIN:VTIMEZONE
TZID:America/New_York
BEGIN:DAYLIGHT
TZOFFSETFROM:-0500
TZOFFSETTO:-0400
TZNAME:EDT
DTSTART:20240310T070000
END:DAYLIGHT
BEGIN:STANDARD
TZOFFSETFROM:-0400
TZOFFSETTO:-0500
TZNAME:EST
DTSTART:20241103T060000
END:STANDARD
BEGIN:DAYLIGHT
TZOFFSETFROM:-0500
TZOFFSETTO:-0400
TZNAME:EDT
DTSTART:20250309T070000
END:DAYLIGHT
BEGIN:STANDARD
TZOFFSETFROM:-0400
TZOFFSETTO:-0500
TZNAME:EST
DTSTART:20251102T060000
END:STANDARD
BEGIN:DAYLIGHT
TZOFFSETFROM:-0500
TZOFFSETTO:-0400
TZNAME:EDT
DTSTART:20260308T070000
END:DAYLIGHT
BEGIN:STANDARD
TZOFFSETFROM:-0400
TZOFFSETTO:-0500
TZNAME:EST
DTSTART:20261101T060000
END:STANDARD
END:VTIMEZONE
BEGIN:VEVENT
DTSTART;TZID=America/New_York:20250630T083000
DTEND;TZID=America/New_York:20250703T150000
DTSTAMP:20260424T092433
CREATED:20250326T170923Z
LAST-MODIFIED:20250326T170923Z
UID:10000324-1751272200-1751554800@www.fairwindsgolf.com
SUMMARY:Junior Golf Clinic
DESCRIPTION:To pre-register please use the form below:\nLoading…
URL:https://www.fairwindsgolf.com/event/junior-golf-clinic-15/
END:VEVENT
BEGIN:VEVENT
DTSTART;TZID=America/New_York:20250630T090000
DTEND;TZID=America/New_York:20250703T150000
DTSTAMP:20260424T092433
CREATED:20250128T160511Z
LAST-MODIFIED:20250128T160511Z
UID:10000310-1751274000-1751554800@www.fairwindsgolf.com
SUMMARY:Junior Golf Camp
DESCRIPTION:INFORMATION COMING SOON
URL:https://www.fairwindsgolf.com/event/junior-golf-camp-4/
END:VEVENT
BEGIN:VEVENT
DTSTART;TZID=America/New_York:20250707T083000
DTEND;TZID=America/New_York:20250711T110000
DTSTAMP:20260424T092433
CREATED:20250326T171101Z
LAST-MODIFIED:20250326T171101Z
UID:10000325-1751877000-1752231600@www.fairwindsgolf.com
SUMMARY:Junior Golf Clinic
DESCRIPTION:To pre-register please use the form below:\nLoading…
URL:https://www.fairwindsgolf.com/event/junior-golf-clinic-16/
END:VEVENT
BEGIN:VEVENT
DTSTART;TZID=America/New_York:20250708T150000
DTEND;TZID=America/New_York:20250708T160000
DTSTAMP:20260424T092433
CREATED:20250603T163525Z
LAST-MODIFIED:20250702T202734Z
UID:10000343-1751986800-1751990400@www.fairwindsgolf.com
SUMMARY:Ladies Learn & Play: CURRENTLY FULL
DESCRIPTION:
URL:https://www.fairwindsgolf.com/event/ladies-learn-play-3/
ATTACH;FMTTYPE=image/jpeg:https://www.fairwindsgolf.com/wp-content/uploads/sites/8875/2025/06/1.jpg
END:VEVENT
BEGIN:VEVENT
DTSTART;TZID=America/New_York:20250712T143000
DTEND;TZID=America/New_York:20250712T163000
DTSTAMP:20260424T092433
CREATED:20250501T144604Z
LAST-MODIFIED:20250711T103451Z
UID:10000331-1752330600-1752337800@www.fairwindsgolf.com
SUMMARY:GET OUT & PLAY ADVANCED JUNIOR PROGRAM
DESCRIPTION:To pre-register fill out the form below:\nLoading… \n 
URL:https://www.fairwindsgolf.com/event/get-out-play-advanced-junior-program/
END:VEVENT
BEGIN:VEVENT
DTSTART;TZID=America/New_York:20250714T083000
DTEND;TZID=America/New_York:20250718T110000
DTSTAMP:20260424T092433
CREATED:20250326T171212Z
LAST-MODIFIED:20250326T171212Z
UID:10000326-1752481800-1752836400@www.fairwindsgolf.com
SUMMARY:Junior Golf Clinic
DESCRIPTION:To pre-register please use the form below:\nLoading…
URL:https://www.fairwindsgolf.com/event/junior-golf-clinic-17/
END:VEVENT
BEGIN:VEVENT
DTSTART;TZID=America/New_York:20250719T143000
DTEND;TZID=America/New_York:20250719T163000
DTSTAMP:20260424T092433
CREATED:20250501T144912Z
LAST-MODIFIED:20250711T103553Z
UID:10000333-1752935400-1752942600@www.fairwindsgolf.com
SUMMARY:GET OUT & PLAY ADVANCED JUNIOR GOLFERS
DESCRIPTION:TO PRE-REGISTER FILL OUT THE FORM BELOW: \nLoading…
URL:https://www.fairwindsgolf.com/event/get-out-play-advanced-junior-golfers-2/
END:VEVENT
BEGIN:VEVENT
DTSTART;TZID=America/New_York:20250721T083000
DTEND;TZID=America/New_York:20250725T110000
DTSTAMP:20260424T092433
CREATED:20250326T171642Z
LAST-MODIFIED:20250326T172125Z
UID:10000327-1753086600-1753441200@www.fairwindsgolf.com
SUMMARY:Junior Golf Clinic
DESCRIPTION:To pre-register use the form below:\nLoading…
URL:https://www.fairwindsgolf.com/event/junior-golf-clinic-18/
END:VEVENT
BEGIN:VEVENT
DTSTART;TZID=America/New_York:20250726T143000
DTEND;TZID=America/New_York:20250726T163000
DTSTAMP:20260424T092433
CREATED:20250501T145105Z
LAST-MODIFIED:20250711T103646Z
UID:10000334-1753540200-1753547400@www.fairwindsgolf.com
SUMMARY:GET OUT & PLAY ADVANCED JUNIOR GOLFERS
DESCRIPTION:TO PRE-REGISTER FILL OUT THE FORM BELOW:\nLoading…
URL:https://www.fairwindsgolf.com/event/get-out-play-advanced-golfers/
END:VEVENT
END:VCALENDAR