BEGIN:VCALENDAR
VERSION:2.0
PRODID:-//Fairwinds Golf Course - ECPv6.15.18//NONSGML v1.0//EN
CALSCALE:GREGORIAN
METHOD:PUBLISH
X-WR-CALNAME:Fairwinds Golf Course
X-ORIGINAL-URL:https://www.fairwindsgolf.com
X-WR-CALDESC:Events for Fairwinds Golf Course
REFRESH-INTERVAL;VALUE=DURATION:PT1H
X-Robots-Tag:noindex
X-PUBLISHED-TTL:PT1H
BEGIN:VTIMEZONE
TZID:America/New_York
BEGIN:DAYLIGHT
TZOFFSETFROM:-0500
TZOFFSETTO:-0400
TZNAME:EDT
DTSTART:20240310T070000
END:DAYLIGHT
BEGIN:STANDARD
TZOFFSETFROM:-0400
TZOFFSETTO:-0500
TZNAME:EST
DTSTART:20241103T060000
END:STANDARD
BEGIN:DAYLIGHT
TZOFFSETFROM:-0500
TZOFFSETTO:-0400
TZNAME:EDT
DTSTART:20250309T070000
END:DAYLIGHT
BEGIN:STANDARD
TZOFFSETFROM:-0400
TZOFFSETTO:-0500
TZNAME:EST
DTSTART:20251102T060000
END:STANDARD
BEGIN:DAYLIGHT
TZOFFSETFROM:-0500
TZOFFSETTO:-0400
TZNAME:EDT
DTSTART:20260308T070000
END:DAYLIGHT
BEGIN:STANDARD
TZOFFSETFROM:-0400
TZOFFSETTO:-0500
TZNAME:EST
DTSTART:20261101T060000
END:STANDARD
END:VTIMEZONE
BEGIN:VEVENT
DTSTART;TZID=America/New_York:20250603T080000
DTEND;TZID=America/New_York:20250603T170000
DTSTAMP:20260424T083433
CREATED:20250603T163710Z
LAST-MODIFIED:20250603T163710Z
UID:10000344-1748937600-1748970000@www.fairwindsgolf.com
SUMMARY:Ladies Learn & Play
DESCRIPTION:Registration opens Wednesday June 25th at 4:00 pm.
URL:https://www.fairwindsgolf.com/event/ladies-learn-play-4/
ATTACH;FMTTYPE=image/jpeg:https://www.fairwindsgolf.com/wp-content/uploads/sites/8875/2025/06/1.jpg
END:VEVENT
BEGIN:VEVENT
DTSTART;TZID=America/New_York:20250607T120000
DTEND;TZID=America/New_York:20250607T130000
DTSTAMP:20260424T083433
CREATED:20250501T145322Z
LAST-MODIFIED:20250501T145322Z
UID:10000335-1749297600-1749301200@www.fairwindsgolf.com
SUMMARY:JUNIOR GOLF CLINICS
DESCRIPTION:TO PRE-REGISTER PLEASE FILL OUT THE FORM:\nLoading…
URL:https://www.fairwindsgolf.com/event/junior-golf-clinics/
END:VEVENT
BEGIN:VEVENT
DTSTART;TZID=America/New_York:20250609T083000
DTEND;TZID=America/New_York:20250613T150000
DTSTAMP:20260424T083433
CREATED:20250128T160028Z
LAST-MODIFIED:20250326T164847Z
UID:10000307-1749457800-1749826800@www.fairwindsgolf.com
SUMMARY:Junior Golf Camp
DESCRIPTION:To pre-register please use the form below:\nLoading… \n  \n  \n \n 
URL:https://www.fairwindsgolf.com/event/junior-golf-camp/
END:VEVENT
BEGIN:VEVENT
DTSTART;TZID=America/New_York:20250610T150000
DTEND;TZID=America/New_York:20250610T160000
DTSTAMP:20260424T083433
CREATED:20250603T155102Z
LAST-MODIFIED:20250608T134146Z
UID:10000341-1749567600-1749571200@www.fairwindsgolf.com
SUMMARY:Ladies Learn & Play- Currently Full
DESCRIPTION:This class is currently full.
URL:https://www.fairwindsgolf.com/event/ladies-learn-play/
ATTACH;FMTTYPE=image/jpeg:https://www.fairwindsgolf.com/wp-content/uploads/sites/8875/2025/06/1.jpg
END:VEVENT
BEGIN:VEVENT
DTSTART;TZID=America/New_York:20250614T120000
DTEND;TZID=America/New_York:20250614T130000
DTSTAMP:20260424T083433
CREATED:20250501T145402Z
LAST-MODIFIED:20250501T145402Z
UID:10000336-1749902400-1749906000@www.fairwindsgolf.com
SUMMARY:JUNIOR GOLF CLINICS
DESCRIPTION:TO REGISTER FILL OUT THE FORM BELOW:\nLoading…
URL:https://www.fairwindsgolf.com/event/junior-golf-clinics-2/
END:VEVENT
BEGIN:VEVENT
DTSTART;TZID=America/New_York:20250616T090000
DTEND;TZID=America/New_York:20250620T150000
DTSTAMP:20260424T083433
CREATED:20250128T160222Z
LAST-MODIFIED:20250128T160222Z
UID:10000308-1750064400-1750431600@www.fairwindsgolf.com
SUMMARY:Junior Golf Camp
DESCRIPTION:INFORMATION COMING SOON
URL:https://www.fairwindsgolf.com/event/junior-golf-camp-2/
END:VEVENT
BEGIN:VEVENT
DTSTART;TZID=America/New_York:20250621T120000
DTEND;TZID=America/New_York:20250621T130000
DTSTAMP:20260424T083433
CREATED:20250501T145448Z
LAST-MODIFIED:20250501T145448Z
UID:10000337-1750507200-1750510800@www.fairwindsgolf.com
SUMMARY:JUNIOR GOLF CLINICS
DESCRIPTION:TO REGISTER PLEASE FILL OUT THE FORM:\nLoading…
URL:https://www.fairwindsgolf.com/event/junior-golf-clinics-4/
END:VEVENT
BEGIN:VEVENT
DTSTART;TZID=America/New_York:20250623T083000
DTEND;TZID=America/New_York:20250627T150000
DTSTAMP:20260424T083433
CREATED:20250326T170622Z
LAST-MODIFIED:20250326T170622Z
UID:10000323-1750667400-1751036400@www.fairwindsgolf.com
SUMMARY:Junior Golf Camp
DESCRIPTION:To pre-register please use the form below:\nLoading…
URL:https://www.fairwindsgolf.com/event/junior-golf-camp-9/
END:VEVENT
BEGIN:VEVENT
DTSTART;TZID=America/New_York:20250623T090000
DTEND;TZID=America/New_York:20250627T150000
DTSTAMP:20260424T083433
CREATED:20250128T160309Z
LAST-MODIFIED:20250128T160329Z
UID:10000309-1750669200-1751036400@www.fairwindsgolf.com
SUMMARY:Junior Golf Camp
DESCRIPTION:MORE INFORMATION COMING SOON
URL:https://www.fairwindsgolf.com/event/junior-golf-camp-3/
END:VEVENT
BEGIN:VEVENT
DTSTART;TZID=America/New_York:20250628T120000
DTEND;TZID=America/New_York:20250628T130000
DTSTAMP:20260424T083433
CREATED:20250501T145556Z
LAST-MODIFIED:20250501T145556Z
UID:10000338-1751112000-1751115600@www.fairwindsgolf.com
SUMMARY:JUNIOR GOLF CLINICS
DESCRIPTION:TO REGISTER USE THE FORM BELOW:\nLoading…
URL:https://www.fairwindsgolf.com/event/junior-golf-clinics-5/
END:VEVENT
BEGIN:VEVENT
DTSTART;TZID=America/New_York:20250630T083000
DTEND;TZID=America/New_York:20250703T150000
DTSTAMP:20260424T083433
CREATED:20250326T170923Z
LAST-MODIFIED:20250326T170923Z
UID:10000324-1751272200-1751554800@www.fairwindsgolf.com
SUMMARY:Junior Golf Clinic
DESCRIPTION:To pre-register please use the form below:\nLoading…
URL:https://www.fairwindsgolf.com/event/junior-golf-clinic-15/
END:VEVENT
BEGIN:VEVENT
DTSTART;TZID=America/New_York:20250630T090000
DTEND;TZID=America/New_York:20250703T150000
DTSTAMP:20260424T083433
CREATED:20250128T160511Z
LAST-MODIFIED:20250128T160511Z
UID:10000310-1751274000-1751554800@www.fairwindsgolf.com
SUMMARY:Junior Golf Camp
DESCRIPTION:INFORMATION COMING SOON
URL:https://www.fairwindsgolf.com/event/junior-golf-camp-4/
END:VEVENT
END:VCALENDAR