BEGIN:VCALENDAR
VERSION:2.0
PRODID:-//Fairwinds Golf Course - ECPv6.15.18//NONSGML v1.0//EN
CALSCALE:GREGORIAN
METHOD:PUBLISH
X-WR-CALNAME:Fairwinds Golf Course
X-ORIGINAL-URL:https://www.fairwindsgolf.com
X-WR-CALDESC:Events for Fairwinds Golf Course
REFRESH-INTERVAL;VALUE=DURATION:PT1H
X-Robots-Tag:noindex
X-PUBLISHED-TTL:PT1H
BEGIN:VTIMEZONE
TZID:America/New_York
BEGIN:DAYLIGHT
TZOFFSETFROM:-0500
TZOFFSETTO:-0400
TZNAME:EDT
DTSTART:20230312T070000
END:DAYLIGHT
BEGIN:STANDARD
TZOFFSETFROM:-0400
TZOFFSETTO:-0500
TZNAME:EST
DTSTART:20231105T060000
END:STANDARD
BEGIN:DAYLIGHT
TZOFFSETFROM:-0500
TZOFFSETTO:-0400
TZNAME:EDT
DTSTART:20240310T070000
END:DAYLIGHT
BEGIN:STANDARD
TZOFFSETFROM:-0400
TZOFFSETTO:-0500
TZNAME:EST
DTSTART:20241103T060000
END:STANDARD
BEGIN:DAYLIGHT
TZOFFSETFROM:-0500
TZOFFSETTO:-0400
TZNAME:EDT
DTSTART:20250309T070000
END:DAYLIGHT
BEGIN:STANDARD
TZOFFSETFROM:-0400
TZOFFSETTO:-0500
TZNAME:EST
DTSTART:20251102T060000
END:STANDARD
END:VTIMEZONE
BEGIN:VEVENT
DTSTART;TZID=America/New_York:20241203T140000
DTEND;TZID=America/New_York:20241203T150000
DTSTAMP:20260424T002711
CREATED:20240830T125345Z
LAST-MODIFIED:20241127T154229Z
UID:10000183-1733234400-1733238000@www.fairwindsgolf.com
SUMMARY:Ladies Clinic
DESCRIPTION:Time: 2:00 pm to 3:00 pm\nLoading… \nSpace is limited. Sign-ups open Nov. 27 at 11:00 am EST. \nFor questions or concerns please contact Anny Abreu .  \nPh: 772-462-2722 \n*Payment must be cash.
URL:https://www.fairwindsgolf.com/event/ladies-clinic-23/
END:VEVENT
BEGIN:VEVENT
DTSTART;TZID=America/New_York:20241204T093000
DTEND;TZID=America/New_York:20241204T110000
DTSTAMP:20260424T002711
CREATED:20240830T155341Z
LAST-MODIFIED:20240917T125428Z
UID:10000227-1733304600-1733310000@www.fairwindsgolf.com
SUMMARY:Co-Ed Clinic: Basic Fundamentals and Iron Play
DESCRIPTION:Please call the pro shop to register: 772-462-4653 \nTime: 9:30 am to 11:00 am \nCost: $25 Cash
URL:https://www.fairwindsgolf.com/event/co-ed-clinic-7/
END:VEVENT
BEGIN:VEVENT
DTSTART;TZID=America/New_York:20241205T090000
DTEND;TZID=America/New_York:20241205T100000
DTSTAMP:20260424T002711
CREATED:20241105T161247Z
LAST-MODIFIED:20241105T161247Z
UID:10000279-1733389200-1733392800@www.fairwindsgolf.com
SUMMARY:Junior Homeschool Program Ages 5 to 11
DESCRIPTION:Loading…
URL:https://www.fairwindsgolf.com/event/junior-homeschool-program-ages-5-to-11-2/
END:VEVENT
BEGIN:VEVENT
DTSTART;TZID=America/New_York:20241205T101500
DTEND;TZID=America/New_York:20241205T111500
DTSTAMP:20260424T002711
CREATED:20241105T161340Z
LAST-MODIFIED:20241105T161340Z
UID:10000280-1733393700-1733397300@www.fairwindsgolf.com
SUMMARY:Junior Homeschool Program Ages 12 to 15
DESCRIPTION:Loading…
URL:https://www.fairwindsgolf.com/event/junior-homeschool-program-ages-12-to-15/
END:VEVENT
BEGIN:VEVENT
DTSTART;TZID=America/New_York:20241207T130000
DTEND;TZID=America/New_York:20241207T140000
DTSTAMP:20260424T002711
CREATED:20240830T143637Z
LAST-MODIFIED:20241105T153416Z
UID:10000211-1733576400-1733580000@www.fairwindsgolf.com
SUMMARY:Junior Golf Clinics
DESCRIPTION:﻿Loading…
URL:https://www.fairwindsgolf.com/event/junior-golf-clinics-3/
END:VEVENT
BEGIN:VEVENT
DTSTART;TZID=America/New_York:20241210T140000
DTEND;TZID=America/New_York:20241210T150000
DTSTAMP:20260424T002711
CREATED:20240830T122318Z
LAST-MODIFIED:20241204T155846Z
UID:10000181-1733839200-1733842800@www.fairwindsgolf.com
SUMMARY:Ladies Clinic
DESCRIPTION:Loading… \n  \n  \nTime: 2:00 pm to 3:00 pm \nSpace is limited. Sign-ups open Dec. 4 at 11:00 am EST. \nFor questions or concerns please contact Anny Abreu .  \nPh: 772-462-2722 \n*Payment must be cash.
URL:https://www.fairwindsgolf.com/event/ladies-clinic-22/
END:VEVENT
BEGIN:VEVENT
DTSTART;TZID=America/New_York:20241211T093000
DTEND;TZID=America/New_York:20241211T110000
DTSTAMP:20260424T002711
CREATED:20240830T155440Z
LAST-MODIFIED:20240917T125717Z
UID:10000228-1733909400-1733914800@www.fairwindsgolf.com
SUMMARY:Co-Ed Clinic: Hybrids and Fairway Metals
DESCRIPTION:Please call the pro shop to register: 772-462-4653 \nTime: 9:30 am to 11:00 am \nCost: $25 Cash
URL:https://www.fairwindsgolf.com/event/co-ed-clinic-8/
END:VEVENT
BEGIN:VEVENT
DTSTART;TZID=America/New_York:20241214T140000
DTEND;TZID=America/New_York:20241214T160000
DTSTAMP:20260424T002711
CREATED:20241126T145512Z
LAST-MODIFIED:20241210T173045Z
UID:10000281-1734184800-1734192000@www.fairwindsgolf.com
SUMMARY:Chip & Jingle- CURRENTLY FULL
DESCRIPTION:CURRENTLY FULL PLEASE CONTACT ANNERY ABREU TO BE ADDED TO THE WAITLIST.\nPH: 772-207-8618\nEMAIL: ABREUA@STLUCIECO.ORG
URL:https://www.fairwindsgolf.com/event/chip-jingle/
END:VEVENT
BEGIN:VEVENT
DTSTART;TZID=America/New_York:20241216T100000
DTEND;TZID=America/New_York:20241216T140000
DTSTAMP:20260424T002711
CREATED:20240830T151013Z
LAST-MODIFIED:20241205T150727Z
UID:10000212-1734343200-1734357600@www.fairwindsgolf.com
SUMMARY:Srixon Demo Day
DESCRIPTION:Loading…
URL:https://www.fairwindsgolf.com/event/srixon-demo-day-golf-ball-demo-day-2/
END:VEVENT
BEGIN:VEVENT
DTSTART;TZID=America/New_York:20241217T140000
DTEND;TZID=America/New_York:20241217T150000
DTSTAMP:20260424T002711
CREATED:20240830T125453Z
LAST-MODIFIED:20241211T155153Z
UID:10000184-1734444000-1734447600@www.fairwindsgolf.com
SUMMARY:Ladies Clinic
DESCRIPTION:﻿Loading… \nTime: 2:00 pm to 3:00 pm \nSpace is limited. Sign-ups open Dec 11 at 11:00 am EST. \nFor questions or concerns please contact Anny Abreu .  \nPh: 772-462-2722 \n*Payment must be cash.
URL:https://www.fairwindsgolf.com/event/ladies-clinic-24/
END:VEVENT
BEGIN:VEVENT
DTSTART;TZID=America/New_York:20241218T093000
DTEND;TZID=America/New_York:20241218T110000
DTSTAMP:20260424T002711
CREATED:20240831T120206Z
LAST-MODIFIED:20240917T125807Z
UID:10000229-1734514200-1734519600@www.fairwindsgolf.com
SUMMARY:Co-Ed Clinic: Driver
DESCRIPTION:Please call the pro shop to register: 772-462-4653 \nTime: 9:30 am to 11:00 am \nCost: $25 Cash
URL:https://www.fairwindsgolf.com/event/co-ed-clinic-9/
END:VEVENT
BEGIN:VEVENT
DTSTART;TZID=America/New_York:20241226T090000
DTEND;TZID=America/New_York:20241226T120000
DTSTAMP:20260424T002711
CREATED:20241205T145107Z
LAST-MODIFIED:20241207T193125Z
UID:10000282-1735203600-1735214400@www.fairwindsgolf.com
SUMMARY:Winter Junior Camp
DESCRIPTION:To register please use the form below:\nLoading…
URL:https://www.fairwindsgolf.com/event/winter-junior-camp/
END:VEVENT
BEGIN:VEVENT
DTSTART;TZID=America/New_York:20241227T090000
DTEND;TZID=America/New_York:20241227T120000
DTSTAMP:20260424T002711
CREATED:20241205T145157Z
LAST-MODIFIED:20241207T193250Z
UID:10000283-1735290000-1735300800@www.fairwindsgolf.com
SUMMARY:Winter Junior Camp
DESCRIPTION:Please use the form to register: \nLoading…
URL:https://www.fairwindsgolf.com/event/winter-junior-camp-2/
END:VEVENT
BEGIN:VEVENT
DTSTART;TZID=America/New_York:20241228T090000
DTEND;TZID=America/New_York:20241228T120000
DTSTAMP:20260424T002711
CREATED:20241205T145321Z
LAST-MODIFIED:20241205T150136Z
UID:10000284-1735376400-1735387200@www.fairwindsgolf.com
SUMMARY:Winter Junior Golf Camp
DESCRIPTION:Please use the form below: Loading…
URL:https://www.fairwindsgolf.com/event/winter-junior-camp-3/
END:VEVENT
BEGIN:VEVENT
DTSTART;TZID=America/New_York:20241231T140000
DTEND;TZID=America/New_York:20241231T150000
DTSTAMP:20260424T002711
CREATED:20241226T150536Z
LAST-MODIFIED:20241226T150536Z
UID:10000301-1735653600-1735657200@www.fairwindsgolf.com
SUMMARY:Ladies Clinic
DESCRIPTION:To register use the form below:\nLoading…\n 
URL:https://www.fairwindsgolf.com/event/ladies-clinic-29/
END:VEVENT
END:VCALENDAR