BEGIN:VCALENDAR
VERSION:2.0
PRODID:-//Fairwinds Golf Course - ECPv6.15.18//NONSGML v1.0//EN
CALSCALE:GREGORIAN
METHOD:PUBLISH
X-WR-CALNAME:Fairwinds Golf Course
X-ORIGINAL-URL:https://www.fairwindsgolf.com
X-WR-CALDESC:Events for Fairwinds Golf Course
REFRESH-INTERVAL;VALUE=DURATION:PT1H
X-Robots-Tag:noindex
X-PUBLISHED-TTL:PT1H
BEGIN:VTIMEZONE
TZID:America/New_York
BEGIN:DAYLIGHT
TZOFFSETFROM:-0500
TZOFFSETTO:-0400
TZNAME:EDT
DTSTART:20230312T070000
END:DAYLIGHT
BEGIN:STANDARD
TZOFFSETFROM:-0400
TZOFFSETTO:-0500
TZNAME:EST
DTSTART:20231105T060000
END:STANDARD
BEGIN:DAYLIGHT
TZOFFSETFROM:-0500
TZOFFSETTO:-0400
TZNAME:EDT
DTSTART:20240310T070000
END:DAYLIGHT
BEGIN:STANDARD
TZOFFSETFROM:-0400
TZOFFSETTO:-0500
TZNAME:EST
DTSTART:20241103T060000
END:STANDARD
BEGIN:DAYLIGHT
TZOFFSETFROM:-0500
TZOFFSETTO:-0400
TZNAME:EDT
DTSTART:20250309T070000
END:DAYLIGHT
BEGIN:STANDARD
TZOFFSETFROM:-0400
TZOFFSETTO:-0500
TZNAME:EST
DTSTART:20251102T060000
END:STANDARD
END:VTIMEZONE
BEGIN:VEVENT
DTSTART;TZID=America/New_York:20240703T173000
DTEND;TZID=America/New_York:20240703T203000
DTSTAMP:20260423T231421
CREATED:20240608T163839Z
LAST-MODIFIED:20240608T164235Z
UID:10000152-1720027800-1720038600@www.fairwindsgolf.com
SUMMARY:Rusty Putter Summer League
DESCRIPTION:Shot-gun start at 5:30 pm. Call 462-4653 or email Loreficea@stlucieco.org to sign up. \nCost is $40 and includes golf\, dinner\, beverage and prizes.
URL:https://www.fairwindsgolf.com/event/rusty-putter-summer-league/2024-07-03/
LOCATION:Fairwinds Golf Course
END:VEVENT
BEGIN:VEVENT
DTSTART;TZID=America/New_York:20240708T090000
DTEND;TZID=America/New_York:20240712T150000
DTSTAMP:20260423T231421
CREATED:20240314T143314Z
LAST-MODIFIED:20240314T143314Z
UID:10000130-1720429200-1720796400@www.fairwindsgolf.com
SUMMARY:Junior Golf Summer Camp Week 4
DESCRIPTION:Date: Week 4 July 8 to July 12 \nTime: 9:00 am to 3:00 pm (Full Day Student) or 9:00 am to 11:00 am (Half Day Student) \nCost: Full Day Student $275 per week *Lunch Included* or Half Day Students $175 per week |OR| $65 per Full Day or $45 per Half Day \nCLUBS ARE AVAILABLE AT NO ADDITIONAL COSTS FOR STUDENTS TO BORROW! \n*For Aftercare or beforecare please contact Annery Abreu directly.* \nPh: 772-207-8618 \nEmail: abreua@stlucieco.org \nTo pre-register fill the form below: \n\n 
URL:https://www.fairwindsgolf.com/event/junior-golf-summer-camp-week-4/
END:VEVENT
BEGIN:VEVENT
DTSTART;TZID=America/New_York:20240708T090000
DTEND;TZID=America/New_York:20240802T150000
DTSTAMP:20260423T231421
CREATED:20240111T152158Z
LAST-MODIFIED:20240111T152158Z
UID:10000092-1720429200-1722610800@www.fairwindsgolf.com
SUMMARY:Junior Summer Camp
DESCRIPTION:More information coming soon. \nContact Annery Abreu.
URL:https://www.fairwindsgolf.com/event/junior-summer-camp-2/
END:VEVENT
BEGIN:VEVENT
DTSTART;TZID=America/New_York:20240710T173000
DTEND;TZID=America/New_York:20240710T203000
DTSTAMP:20260423T231421
CREATED:20240608T163839Z
LAST-MODIFIED:20240608T164235Z
UID:10000153-1720632600-1720643400@www.fairwindsgolf.com
SUMMARY:Rusty Putter Summer League
DESCRIPTION:Shot-gun start at 5:30 pm. Call 462-4653 or email Loreficea@stlucieco.org to sign up. \nCost is $40 and includes golf\, dinner\, beverage and prizes.
URL:https://www.fairwindsgolf.com/event/rusty-putter-summer-league/2024-07-10/
LOCATION:Fairwinds Golf Course
END:VEVENT
BEGIN:VEVENT
DTSTART;TZID=America/New_York:20240715T090000
DTEND;TZID=America/New_York:20240719T150000
DTSTAMP:20260423T231421
CREATED:20240314T143446Z
LAST-MODIFIED:20240314T143509Z
UID:10000131-1721034000-1721401200@www.fairwindsgolf.com
SUMMARY:Junior Golf Summer Camp Week 5
DESCRIPTION:Date: Week 5 July 15 to July 19 \nTime: 9:00 am to 3:00 pm (Full Day Student) or 9:00 am to 11:00 am (Half Day Student) \nCost: Full Day Student $275 per week *Lunch Included* or Half Day Students $175 per week |OR| $65 per Full Day or $45 per Half Day \nCLUBS ARE AVAILABLE AT NO ADDITIONAL COSTS FOR STUDENTS TO BORROW! \n*For Aftercare or beforecare please contact Annery Abreu directly.* \nPh: 772-207-8618 \nEmail: abreua@stlucieco.org \nTo pre-register fill the form below:
URL:https://www.fairwindsgolf.com/event/junior-golf-summer-camp-week-5/
END:VEVENT
BEGIN:VEVENT
DTSTART;TZID=America/New_York:20240717T173000
DTEND;TZID=America/New_York:20240717T203000
DTSTAMP:20260423T231421
CREATED:20240608T163839Z
LAST-MODIFIED:20240608T164235Z
UID:10000154-1721237400-1721248200@www.fairwindsgolf.com
SUMMARY:Rusty Putter Summer League
DESCRIPTION:Shot-gun start at 5:30 pm. Call 462-4653 or email Loreficea@stlucieco.org to sign up. \nCost is $40 and includes golf\, dinner\, beverage and prizes.
URL:https://www.fairwindsgolf.com/event/rusty-putter-summer-league/2024-07-17/
LOCATION:Fairwinds Golf Course
END:VEVENT
BEGIN:VEVENT
DTSTART;TZID=America/New_York:20240722T090000
DTEND;TZID=America/New_York:20240726T150000
DTSTAMP:20260423T231421
CREATED:20240314T143724Z
LAST-MODIFIED:20240314T143724Z
UID:10000132-1721638800-1722006000@www.fairwindsgolf.com
SUMMARY:Junior Golf Summer Camp Week 6
DESCRIPTION:Date: Week 6 July 22 to July 26 \nTime: 9:00 am to 3:00 pm (Full Day Student) or 9:00 am to 11:00 am (Half Day Student) \nCost: Full Day Student $275 per week *Lunch Included* or Half Day Students $175 per week |OR| $65 per Full Day or $45 per Half Day \nCLUBS ARE AVAILABLE AT NO ADDITIONAL COSTS FOR STUDENTS TO BORROW! \n*For Aftercare or beforecare please contact Annery Abreu directly.* \nPh: 772-207-8618 \nEmail: abreua@stlucieco.org \nTo pre-register fill the form below:
URL:https://www.fairwindsgolf.com/event/junior-golf-summer-camp-week-6/
END:VEVENT
BEGIN:VEVENT
DTSTART;TZID=America/New_York:20240724T173000
DTEND;TZID=America/New_York:20240724T203000
DTSTAMP:20260423T231421
CREATED:20240608T163839Z
LAST-MODIFIED:20240608T164235Z
UID:10000155-1721842200-1721853000@www.fairwindsgolf.com
SUMMARY:Rusty Putter Summer League
DESCRIPTION:Shot-gun start at 5:30 pm. Call 462-4653 or email Loreficea@stlucieco.org to sign up. \nCost is $40 and includes golf\, dinner\, beverage and prizes.
URL:https://www.fairwindsgolf.com/event/rusty-putter-summer-league/2024-07-24/
LOCATION:Fairwinds Golf Course
END:VEVENT
BEGIN:VEVENT
DTSTART;TZID=America/New_York:20240729T090000
DTEND;TZID=America/New_York:20240802T150000
DTSTAMP:20260423T231421
CREATED:20240314T143921Z
LAST-MODIFIED:20240314T143921Z
UID:10000133-1722243600-1722610800@www.fairwindsgolf.com
SUMMARY:Junior Golf Summer Camp Week 7
DESCRIPTION:Date: Week 7 July 29 to August 2 \nTime: 9:00 am to 3:00 pm (Full Day Student) or 9:00 am to 11:00 am (Half Day Student) \nCost: Full Day Student $275 per week *Lunch Included* or Half Day Students $175 per week |OR| $65 per Full Day or $45 per Half Day \nCLUBS ARE AVAILABLE AT NO ADDITIONAL COSTS FOR STUDENTS TO BORROW! \n*For Aftercare or beforecare please contact Annery Abreu directly.* \nPh: 772-207-8618 \nEmail: abreua@stlucieco.org \nTo pre-register fill the form below:
URL:https://www.fairwindsgolf.com/event/junior-golf-summer-camp-week-7/
END:VEVENT
BEGIN:VEVENT
DTSTART;TZID=America/New_York:20240731T173000
DTEND;TZID=America/New_York:20240731T203000
DTSTAMP:20260423T231421
CREATED:20240608T163839Z
LAST-MODIFIED:20240608T164235Z
UID:10000156-1722447000-1722457800@www.fairwindsgolf.com
SUMMARY:Rusty Putter Summer League
DESCRIPTION:Shot-gun start at 5:30 pm. Call 462-4653 or email Loreficea@stlucieco.org to sign up. \nCost is $40 and includes golf\, dinner\, beverage and prizes.
URL:https://www.fairwindsgolf.com/event/rusty-putter-summer-league/2024-07-31/
LOCATION:Fairwinds Golf Course
END:VEVENT
END:VCALENDAR