BEGIN:VCALENDAR
VERSION:2.0
PRODID:-//Fairwinds Golf Course - ECPv6.15.18//NONSGML v1.0//EN
CALSCALE:GREGORIAN
METHOD:PUBLISH
X-WR-CALNAME:Fairwinds Golf Course
X-ORIGINAL-URL:https://www.fairwindsgolf.com
X-WR-CALDESC:Events for Fairwinds Golf Course
REFRESH-INTERVAL;VALUE=DURATION:PT1H
X-Robots-Tag:noindex
X-PUBLISHED-TTL:PT1H
BEGIN:VTIMEZONE
TZID:America/New_York
BEGIN:DAYLIGHT
TZOFFSETFROM:-0500
TZOFFSETTO:-0400
TZNAME:EDT
DTSTART:20250309T070000
END:DAYLIGHT
BEGIN:STANDARD
TZOFFSETFROM:-0400
TZOFFSETTO:-0500
TZNAME:EST
DTSTART:20251102T060000
END:STANDARD
BEGIN:DAYLIGHT
TZOFFSETFROM:-0500
TZOFFSETTO:-0400
TZNAME:EDT
DTSTART:20260308T070000
END:DAYLIGHT
BEGIN:STANDARD
TZOFFSETFROM:-0400
TZOFFSETTO:-0500
TZNAME:EST
DTSTART:20261101T060000
END:STANDARD
BEGIN:DAYLIGHT
TZOFFSETFROM:-0500
TZOFFSETTO:-0400
TZNAME:EDT
DTSTART:20270314T070000
END:DAYLIGHT
BEGIN:STANDARD
TZOFFSETFROM:-0400
TZOFFSETTO:-0500
TZNAME:EST
DTSTART:20271107T060000
END:STANDARD
END:VTIMEZONE
BEGIN:VEVENT
DTSTART;TZID=America/New_York:20260303T143000
DTEND;TZID=America/New_York:20260303T153000
DTSTAMP:20260420T202304
CREATED:20260225T200250Z
LAST-MODIFIED:20260225T200250Z
UID:10000469-1772548200-1772551800@www.fairwindsgolf.com
SUMMARY:Ladies Clinic
DESCRIPTION:Loading…
URL:https://www.fairwindsgolf.com/event/ladies-clinic-63/
END:VEVENT
BEGIN:VEVENT
DTSTART;TZID=America/New_York:20260304T091500
DTEND;TZID=America/New_York:20260304T110000
DTSTAMP:20260420T202304
CREATED:20251216T020807Z
LAST-MODIFIED:20260226T204139Z
UID:10000425-1772615700-1772622000@www.fairwindsgolf.com
SUMMARY:Co Ed Clinic Hybrids & Fairway Metals
DESCRIPTION:Registration opens Feb 26 4pm\nLoading…
URL:https://www.fairwindsgolf.com/event/co-ed-clinic-hybrids-fairway-metals-14/
ATTACH;FMTTYPE=image/png:https://www.fairwindsgolf.com/wp-content/uploads/sites/8875/2025/09/Screenshot-2025-09-30-at-9.59.54-PM.png
END:VEVENT
BEGIN:VEVENT
DTSTART;TZID=America/New_York:20260304T143000
DTEND;TZID=America/New_York:20260304T153000
DTSTAMP:20260420T202304
CREATED:20260226T204446Z
LAST-MODIFIED:20260302T145001Z
UID:10000470-1772634600-1772638200@www.fairwindsgolf.com
SUMMARY:Ladies Clinic CURRENTLY FULL
DESCRIPTION:currently full
URL:https://www.fairwindsgolf.com/event/ladies-clinic-64/
END:VEVENT
BEGIN:VEVENT
DTSTART;TZID=America/New_York:20260306T091500
DTEND;TZID=America/New_York:20260306T110000
DTSTAMP:20260420T202304
CREATED:20251216T021959Z
LAST-MODIFIED:20260301T005259Z
UID:10000426-1772788500-1772794800@www.fairwindsgolf.com
SUMMARY:Co- Ed Clinic Hybrids & Fairway Metals
DESCRIPTION:Loading…
URL:https://www.fairwindsgolf.com/event/co-ed-clinic-hybrids-fairway-metals-15/
ATTACH;FMTTYPE=image/png:https://www.fairwindsgolf.com/wp-content/uploads/sites/8875/2025/09/Screenshot-2025-09-30-at-9.59.54-PM.png
END:VEVENT
BEGIN:VEVENT
DTSTART;TZID=America/New_York:20260311T080000
DTEND;TZID=America/New_York:20260311T170000
DTSTAMP:20260420T202304
CREATED:20251216T122517Z
LAST-MODIFIED:20260305T202642Z
UID:10000434-1773216000-1773248400@www.fairwindsgolf.com
SUMMARY:Co Ed Clinic Driver
DESCRIPTION:﻿Loading…
URL:https://www.fairwindsgolf.com/event/co-ed-clinic-driver-14/
ATTACH;FMTTYPE=image/png:https://www.fairwindsgolf.com/wp-content/uploads/sites/8875/2025/09/Screenshot-2025-09-30-at-9.57.03-PM.png
END:VEVENT
BEGIN:VEVENT
DTSTART;TZID=America/New_York:20260313T091500
DTEND;TZID=America/New_York:20260313T110000
DTSTAMP:20260420T202304
CREATED:20251216T122622Z
LAST-MODIFIED:20260307T204845Z
UID:10000435-1773393300-1773399600@www.fairwindsgolf.com
SUMMARY:Co Ed Clinic Driver
DESCRIPTION:Loading…
URL:https://www.fairwindsgolf.com/event/co-ed-clinic-driver-15/
ATTACH;FMTTYPE=image/png:https://www.fairwindsgolf.com/wp-content/uploads/sites/8875/2025/09/Screenshot-2025-09-30-at-9.57.03-PM.png
END:VEVENT
BEGIN:VEVENT
DTSTART;TZID=America/New_York:20260316T093000
DTEND;TZID=America/New_York:20260320T120000
DTSTAMP:20260420T202304
CREATED:20260204T205835Z
LAST-MODIFIED:20260227T185138Z
UID:10000461-1773653400-1774008000@www.fairwindsgolf.com
SUMMARY:Junior Spring Break Camp
DESCRIPTION:Loading…
URL:https://www.fairwindsgolf.com/event/junior-spring-break-camp/
END:VEVENT
BEGIN:VEVENT
DTSTART;TZID=America/New_York:20260318T091500
DTEND;TZID=America/New_York:20260318T110000
DTSTAMP:20260420T202304
CREATED:20251212T171412Z
LAST-MODIFIED:20260312T194346Z
UID:10000395-1773825300-1773831600@www.fairwindsgolf.com
SUMMARY:Co Ed Clinic: Putting
DESCRIPTION:Loading…
URL:https://www.fairwindsgolf.com/event/co-ed-clinic-putting-19/
END:VEVENT
BEGIN:VEVENT
DTSTART;TZID=America/New_York:20260320T091500
DTEND;TZID=America/New_York:20260320T110000
DTSTAMP:20260420T202304
CREATED:20251212T171916Z
LAST-MODIFIED:20260314T200136Z
UID:10000396-1773998100-1774004400@www.fairwindsgolf.com
SUMMARY:Co Ed Clinic: Putting
DESCRIPTION:Registration opens March 13 at 4pm\nLoading…
URL:https://www.fairwindsgolf.com/event/co-ed-clinic-putting-20/
ATTACH;FMTTYPE=image/png:https://www.fairwindsgolf.com/wp-content/uploads/sites/8875/2025/10/Screenshot-2025-10-13-at-1.00.03-PM.png
END:VEVENT
BEGIN:VEVENT
DTSTART;TZID=America/New_York:20260325T091500
DTEND;TZID=America/New_York:20260325T110000
DTSTAMP:20260420T202304
CREATED:20251216T011646Z
LAST-MODIFIED:20260319T193814Z
UID:10000402-1774430100-1774436400@www.fairwindsgolf.com
SUMMARY:Co Ed Clinic: Chipping & Around the Green
DESCRIPTION:Loading…
URL:https://www.fairwindsgolf.com/event/co-ed-clinic-chipping-around-the-green-11/
ATTACH;FMTTYPE=image/png:https://www.fairwindsgolf.com/wp-content/uploads/sites/8875/2025/09/Screenshot-2025-09-30-at-9.54.37-PM.png
END:VEVENT
BEGIN:VEVENT
DTSTART;TZID=America/New_York:20260327T091500
DTEND;TZID=America/New_York:20260327T110000
DTSTAMP:20260420T202304
CREATED:20251216T011935Z
LAST-MODIFIED:20260321T193926Z
UID:10000403-1774602900-1774609200@www.fairwindsgolf.com
SUMMARY:Co Ed Clinic: Chipping & Around the Green
DESCRIPTION:Loading…
URL:https://www.fairwindsgolf.com/event/co-ed-clinic-chipping-around-the-green-12/
ATTACH;FMTTYPE=image/png:https://www.fairwindsgolf.com/wp-content/uploads/sites/8875/2025/09/Screenshot-2025-09-30-at-9.54.37-PM.png
END:VEVENT
BEGIN:VEVENT
DTSTART;TZID=America/New_York:20260401T091500
DTEND;TZID=America/New_York:20260401T110000
DTSTAMP:20260420T202304
CREATED:20251216T013410Z
LAST-MODIFIED:20260326T194809Z
UID:10000410-1775034900-1775041200@www.fairwindsgolf.com
SUMMARY:Co Ed Clinic Pitching & Bunker Play
DESCRIPTION:Loading…
URL:https://www.fairwindsgolf.com/event/co-ed-clinic-pitching-bunker-play-8/
ATTACH;FMTTYPE=image/png:https://www.fairwindsgolf.com/wp-content/uploads/sites/8875/2025/09/Screenshot-2025-09-30-at-9.55.47-PM.png
END:VEVENT
BEGIN:VEVENT
DTSTART;TZID=America/New_York:20260403T080000
DTEND;TZID=America/New_York:20260403T170000
DTSTAMP:20260420T202304
CREATED:20251216T013532Z
LAST-MODIFIED:20260328T192216Z
UID:10000411-1775203200-1775235600@www.fairwindsgolf.com
SUMMARY:Co Ed Clinic Pitching & Bunker Play
DESCRIPTION:Loading…
URL:https://www.fairwindsgolf.com/event/co-ed-clinic-pitching-bunker-play-9/
ATTACH;FMTTYPE=image/png:https://www.fairwindsgolf.com/wp-content/uploads/sites/8875/2025/09/Screenshot-2025-09-30-at-9.55.47-PM.png
END:VEVENT
BEGIN:VEVENT
DTSTART;TZID=America/New_York:20260408T080000
DTEND;TZID=America/New_York:20260408T170000
DTSTAMP:20260420T202304
CREATED:20251216T015059Z
LAST-MODIFIED:20260403T124957Z
UID:10000418-1775635200-1775667600@www.fairwindsgolf.com
SUMMARY:Co-Ed Clinic: Iron & Basic Fundamentals
DESCRIPTION:﻿Loading…
URL:https://www.fairwindsgolf.com/event/co-ed-clinic-iron-basic-fundamentals-5/
ATTACH;FMTTYPE=image/png:https://www.fairwindsgolf.com/wp-content/uploads/sites/8875/2025/09/Screenshot-2025-09-30-at-9.57.45-PM.png
END:VEVENT
BEGIN:VEVENT
DTSTART;TZID=America/New_York:20260410T091500
DTEND;TZID=America/New_York:20260410T110000
DTSTAMP:20260420T202304
CREATED:20251216T020026Z
LAST-MODIFIED:20260408T125128Z
UID:10000421-1775812500-1775818800@www.fairwindsgolf.com
SUMMARY:Co Ed Clinic Iron & Basic Fundamentals
DESCRIPTION:Loading…
URL:https://www.fairwindsgolf.com/event/co-ed-clinic-iron-basic-fundamentals-8/
ATTACH;FMTTYPE=image/png:https://www.fairwindsgolf.com/wp-content/uploads/sites/8875/2025/09/Screenshot-2025-09-30-at-9.57.45-PM.png
END:VEVENT
BEGIN:VEVENT
DTSTART;TZID=America/New_York:20260411T110000
DTEND;TZID=America/New_York:20260411T120000
DTSTAMP:20260420T202304
CREATED:20260410T150231Z
LAST-MODIFIED:20260410T150231Z
UID:10000479-1775905200-1775908800@www.fairwindsgolf.com
SUMMARY:First Tee Wee Links Beginner Program
DESCRIPTION:Loading…
URL:https://www.fairwindsgolf.com/event/first-tee-wee-links-beginner-program/
END:VEVENT
BEGIN:VEVENT
DTSTART;TZID=America/New_York:20260415T091500
DTEND;TZID=America/New_York:20260415T110000
DTSTAMP:20260420T202304
CREATED:20251216T022132Z
LAST-MODIFIED:20260409T201643Z
UID:10000427-1776244500-1776250800@www.fairwindsgolf.com
SUMMARY:Co Ed Clinic: Hybrids & Fairway Metals
DESCRIPTION:﻿Loading…
URL:https://www.fairwindsgolf.com/event/co-ed-clinic-hybrids-fairway-metals-16/
ATTACH;FMTTYPE=image/png:https://www.fairwindsgolf.com/wp-content/uploads/sites/8875/2025/09/Screenshot-2025-09-30-at-9.59.54-PM.png
END:VEVENT
BEGIN:VEVENT
DTSTART;TZID=America/New_York:20260417T091500
DTEND;TZID=America/New_York:20260417T110000
DTSTAMP:20260420T202305
CREATED:20251216T022338Z
LAST-MODIFIED:20260420T132807Z
UID:10000428-1776417300-1776423600@www.fairwindsgolf.com
SUMMARY:Co Ed Clinic: Hybrids & Fairway Metals
DESCRIPTION:Loading…
URL:https://www.fairwindsgolf.com/event/co-ed-clinic-hybrids-fairway-metals-17/
ATTACH;FMTTYPE=image/png:https://www.fairwindsgolf.com/wp-content/uploads/sites/8875/2025/09/Screenshot-2025-09-30-at-9.59.54-PM.png
END:VEVENT
BEGIN:VEVENT
DTSTART;TZID=America/New_York:20260418T110000
DTEND;TZID=America/New_York:20260418T120000
DTSTAMP:20260420T202305
CREATED:20260410T150403Z
LAST-MODIFIED:20260410T150427Z
UID:10000480-1776510000-1776513600@www.fairwindsgolf.com
SUMMARY:First Tee Wee Links Beginner Program (Junior Clinic)
DESCRIPTION:﻿Loading…
URL:https://www.fairwindsgolf.com/event/first-tee-wee-links-beginner-program-2/
END:VEVENT
BEGIN:VEVENT
DTSTART;TZID=America/New_York:20260421T143000
DTEND;TZID=America/New_York:20260421T153000
DTSTAMP:20260420T202305
CREATED:20260304T205347Z
LAST-MODIFIED:20260416T005747Z
UID:10000477-1776781800-1776785400@www.fairwindsgolf.com
SUMMARY:Ladies Clinic
DESCRIPTION:﻿Loading…
URL:https://www.fairwindsgolf.com/event/ladies-clinic-65/
END:VEVENT
BEGIN:VEVENT
DTSTART;TZID=America/New_York:20260422T091500
DTEND;TZID=America/New_York:20260422T110000
DTSTAMP:20260420T202305
CREATED:20251216T122834Z
LAST-MODIFIED:20260420T132916Z
UID:10000436-1776849300-1776855600@www.fairwindsgolf.com
SUMMARY:Co Ed Clinic Driver
DESCRIPTION:﻿Loading…
URL:https://www.fairwindsgolf.com/event/co-ed-clinic-driver-16/
ATTACH;FMTTYPE=image/png:https://www.fairwindsgolf.com/wp-content/uploads/sites/8875/2025/09/Screenshot-2025-09-30-at-9.57.03-PM.png
END:VEVENT
BEGIN:VEVENT
DTSTART;TZID=America/New_York:20260424T091500
DTEND;TZID=America/New_York:20260424T110000
DTSTAMP:20260420T202305
CREATED:20251216T123634Z
LAST-MODIFIED:20260420T132723Z
UID:10000437-1777022100-1777028400@www.fairwindsgolf.com
SUMMARY:Co Ed Clinic Driver
DESCRIPTION:Loading…
URL:https://www.fairwindsgolf.com/event/co-ed-clinic-driver-17/
ATTACH;FMTTYPE=image/png:https://www.fairwindsgolf.com/wp-content/uploads/sites/8875/2025/09/Screenshot-2025-09-30-at-9.57.03-PM.png
END:VEVENT
BEGIN:VEVENT
DTSTART;TZID=America/New_York:20260425T110000
DTEND;TZID=America/New_York:20260425T120000
DTSTAMP:20260420T202305
CREATED:20260410T150636Z
LAST-MODIFIED:20260410T150636Z
UID:10000481-1777114800-1777118400@www.fairwindsgolf.com
SUMMARY:First Tee Wee Links Beginner Program (Junior Clinic)
DESCRIPTION:Loading…
URL:https://www.fairwindsgolf.com/event/first-tee-wee-links-beginner-program-junior-clinic/
END:VEVENT
BEGIN:VEVENT
DTSTART;TZID=America/New_York:20260429T091500
DTEND;TZID=America/New_York:20260429T110000
DTSTAMP:20260420T202305
CREATED:20251212T172035Z
LAST-MODIFIED:20251212T172035Z
UID:10000397-1777454100-1777460400@www.fairwindsgolf.com
SUMMARY:Co-Ed Clinic : Putting
DESCRIPTION:Registration opens April 23 at 4pm
URL:https://www.fairwindsgolf.com/event/co-ed-clinic-putting-21/
END:VEVENT
BEGIN:VEVENT
DTSTART;TZID=America/New_York:20260501T091500
DTEND;TZID=America/New_York:20260501T110000
DTSTAMP:20260420T202305
CREATED:20251212T172216Z
LAST-MODIFIED:20251212T172314Z
UID:10000398-1777626900-1777633200@www.fairwindsgolf.com
SUMMARY:Co-Ed Clinic: Putting
DESCRIPTION:Registration opens April 24 at 4pm
URL:https://www.fairwindsgolf.com/event/co-ed-clinic-putting-22/
ATTACH;FMTTYPE=image/png:https://www.fairwindsgolf.com/wp-content/uploads/sites/8875/2025/10/Screenshot-2025-10-13-at-1.00.03-PM.png
END:VEVENT
BEGIN:VEVENT
DTSTART;TZID=America/New_York:20260506T091500
DTEND;TZID=America/New_York:20260506T110000
DTSTAMP:20260420T202305
CREATED:20251216T012241Z
LAST-MODIFIED:20251216T012309Z
UID:10000404-1778058900-1778065200@www.fairwindsgolf.com
SUMMARY:Co Ed Clinic: Chipping & Around the Green
DESCRIPTION:Registration opens at April 30th at 4pm.
URL:https://www.fairwindsgolf.com/event/co-ed-clinic-chipping-around-the-green-13/
ATTACH;FMTTYPE=image/png:https://www.fairwindsgolf.com/wp-content/uploads/sites/8875/2025/09/Screenshot-2025-09-30-at-9.54.37-PM.png
END:VEVENT
BEGIN:VEVENT
DTSTART;TZID=America/New_York:20260508T080000
DTEND;TZID=America/New_York:20260508T170000
DTSTAMP:20260420T202305
CREATED:20251216T012440Z
LAST-MODIFIED:20251216T012440Z
UID:10000405-1778227200-1778259600@www.fairwindsgolf.com
SUMMARY:Co-Ed Clinic: Chipping & Around the Green
DESCRIPTION:Registration opens May 2nd at 4pm.
URL:https://www.fairwindsgolf.com/event/co-ed-clinic-chipping-around-the-green-14/
ATTACH;FMTTYPE=image/png:https://www.fairwindsgolf.com/wp-content/uploads/sites/8875/2025/09/Screenshot-2025-09-30-at-9.54.37-PM.png
END:VEVENT
BEGIN:VEVENT
DTSTART;TZID=America/New_York:20260513T091500
DTEND;TZID=America/New_York:20260513T110000
DTSTAMP:20260420T202305
CREATED:20251216T013709Z
LAST-MODIFIED:20251216T013728Z
UID:10000412-1778663700-1778670000@www.fairwindsgolf.com
SUMMARY:Co Ed Clinic Pitching & Bunker Play
DESCRIPTION:Registration opens May 7th at 4pm.
URL:https://www.fairwindsgolf.com/event/co-ed-clinic-pitching-bunker-play-10/
ATTACH;FMTTYPE=image/png:https://www.fairwindsgolf.com/wp-content/uploads/sites/8875/2025/09/Screenshot-2025-09-30-at-9.55.47-PM.png
END:VEVENT
BEGIN:VEVENT
DTSTART;TZID=America/New_York:20260520T091500
DTEND;TZID=America/New_York:20260520T110000
DTSTAMP:20260420T202305
CREATED:20251216T015236Z
LAST-MODIFIED:20251216T015236Z
UID:10000419-1779268500-1779274800@www.fairwindsgolf.com
SUMMARY:Co Ed Clinic: Iron & Basic Fundamentals
DESCRIPTION:Registration opens May 14th at 4pm.
URL:https://www.fairwindsgolf.com/event/co-ed-clinic-iron-basic-fundamentals-6/
END:VEVENT
BEGIN:VEVENT
DTSTART;TZID=America/New_York:20260522T091500
DTEND;TZID=America/New_York:20260522T110000
DTSTAMP:20260420T202305
CREATED:20251216T015746Z
LAST-MODIFIED:20251216T015746Z
UID:10000420-1779441300-1779447600@www.fairwindsgolf.com
SUMMARY:Co Ed Clinic: Iron & Basic Fundamentals
DESCRIPTION:Registration opens May 16th at 4pm.
URL:https://www.fairwindsgolf.com/event/co-ed-clinic-iron-basic-fundamentals-7/
ATTACH;FMTTYPE=image/png:https://www.fairwindsgolf.com/wp-content/uploads/sites/8875/2025/09/Screenshot-2025-09-30-at-9.57.45-PM.png
END:VEVENT
END:VCALENDAR