BEGIN:VCALENDAR
VERSION:2.0
PRODID:-//Fairwinds Golf Course - ECPv6.15.18//NONSGML v1.0//EN
CALSCALE:GREGORIAN
METHOD:PUBLISH
X-WR-CALNAME:Fairwinds Golf Course
X-ORIGINAL-URL:https://www.fairwindsgolf.com
X-WR-CALDESC:Events for Fairwinds Golf Course
REFRESH-INTERVAL;VALUE=DURATION:PT1H
X-Robots-Tag:noindex
X-PUBLISHED-TTL:PT1H
BEGIN:VTIMEZONE
TZID:America/New_York
BEGIN:DAYLIGHT
TZOFFSETFROM:-0500
TZOFFSETTO:-0400
TZNAME:EDT
DTSTART:20250309T070000
END:DAYLIGHT
BEGIN:STANDARD
TZOFFSETFROM:-0400
TZOFFSETTO:-0500
TZNAME:EST
DTSTART:20251102T060000
END:STANDARD
BEGIN:DAYLIGHT
TZOFFSETFROM:-0500
TZOFFSETTO:-0400
TZNAME:EDT
DTSTART:20260308T070000
END:DAYLIGHT
BEGIN:STANDARD
TZOFFSETFROM:-0400
TZOFFSETTO:-0500
TZNAME:EST
DTSTART:20261101T060000
END:STANDARD
BEGIN:DAYLIGHT
TZOFFSETFROM:-0500
TZOFFSETTO:-0400
TZNAME:EDT
DTSTART:20270314T070000
END:DAYLIGHT
BEGIN:STANDARD
TZOFFSETFROM:-0400
TZOFFSETTO:-0500
TZNAME:EST
DTSTART:20271107T060000
END:STANDARD
END:VTIMEZONE
BEGIN:VEVENT
DTSTART;TZID=America/New_York:20260225T080000
DTEND;TZID=America/New_York:20260225T170000
DTSTAMP:20260424T011641
CREATED:20251216T014642Z
LAST-MODIFIED:20260219T202502Z
UID:10000416-1772006400-1772038800@www.fairwindsgolf.com
SUMMARY:Co Ed Clinic: Iron & Basic Fundamentals
DESCRIPTION:Registration opens Feb 19th at 4pm.\nLoading…
URL:https://www.fairwindsgolf.com/event/co-ed-clinic-iron-basic-fundamentals-3/
ATTACH;FMTTYPE=image/png:https://www.fairwindsgolf.com/wp-content/uploads/sites/8875/2025/09/Screenshot-2025-09-30-at-9.57.45-PM.png
END:VEVENT
BEGIN:VEVENT
DTSTART;TZID=America/New_York:20260225T143000
DTEND;TZID=America/New_York:20260225T153000
DTSTAMP:20260424T011641
CREATED:20260127T214945Z
LAST-MODIFIED:20260219T202922Z
UID:10000453-1772029800-1772033400@www.fairwindsgolf.com
SUMMARY:Ladies Clinic
DESCRIPTION:Registration opens Feb 19 @4pm\nLoading…
URL:https://www.fairwindsgolf.com/event/ladies-clinic-62/
END:VEVENT
END:VCALENDAR