BEGIN:VCALENDAR
VERSION:2.0
PRODID:-//Fairwinds Golf Course - ECPv6.15.18//NONSGML v1.0//EN
CALSCALE:GREGORIAN
METHOD:PUBLISH
X-WR-CALNAME:Fairwinds Golf Course
X-ORIGINAL-URL:https://www.fairwindsgolf.com
X-WR-CALDESC:Events for Fairwinds Golf Course
REFRESH-INTERVAL;VALUE=DURATION:PT1H
X-Robots-Tag:noindex
X-PUBLISHED-TTL:PT1H
BEGIN:VTIMEZONE
TZID:America/New_York
BEGIN:DAYLIGHT
TZOFFSETFROM:-0500
TZOFFSETTO:-0400
TZNAME:EDT
DTSTART:20250309T070000
END:DAYLIGHT
BEGIN:STANDARD
TZOFFSETFROM:-0400
TZOFFSETTO:-0500
TZNAME:EST
DTSTART:20251102T060000
END:STANDARD
BEGIN:DAYLIGHT
TZOFFSETFROM:-0500
TZOFFSETTO:-0400
TZNAME:EDT
DTSTART:20260308T070000
END:DAYLIGHT
BEGIN:STANDARD
TZOFFSETFROM:-0400
TZOFFSETTO:-0500
TZNAME:EST
DTSTART:20261101T060000
END:STANDARD
BEGIN:DAYLIGHT
TZOFFSETFROM:-0500
TZOFFSETTO:-0400
TZNAME:EDT
DTSTART:20270314T070000
END:DAYLIGHT
BEGIN:STANDARD
TZOFFSETFROM:-0400
TZOFFSETTO:-0500
TZNAME:EST
DTSTART:20271107T060000
END:STANDARD
END:VTIMEZONE
BEGIN:VEVENT
DTSTART;TZID=America/New_York:20260222T090000
DTEND;TZID=America/New_York:20260222T100000
DTSTAMP:20260424T011245
CREATED:20260206T152623Z
LAST-MODIFIED:20260206T152623Z
UID:10000468-1771750800-1771754400@www.fairwindsgolf.com
SUMMARY:First Tee Junior Clinic: Beginner and Intermediate
DESCRIPTION:Loading…
URL:https://www.fairwindsgolf.com/event/first-tee-junior-clinic-beginner-and-intermediate/
END:VEVENT
BEGIN:VEVENT
DTSTART;TZID=America/New_York:20260222T143000
DTEND;TZID=America/New_York:20260222T170000
DTSTAMP:20260424T011245
CREATED:20260204T204732Z
LAST-MODIFIED:20260219T202712Z
UID:10000460-1771770600-1771779600@www.fairwindsgolf.com
SUMMARY:First Tee Get Out & Play: Intermediate & Advanced Golfers
DESCRIPTION:Loading…
URL:https://www.fairwindsgolf.com/event/first-tee-get-out-play-intermediate-advanced-golders/
END:VEVENT
END:VCALENDAR