BEGIN:VCALENDAR
VERSION:2.0
PRODID:-//Fairwinds Golf Course - ECPv6.15.18//NONSGML v1.0//EN
CALSCALE:GREGORIAN
METHOD:PUBLISH
X-WR-CALNAME:Fairwinds Golf Course
X-ORIGINAL-URL:https://www.fairwindsgolf.com
X-WR-CALDESC:Events for Fairwinds Golf Course
REFRESH-INTERVAL;VALUE=DURATION:PT1H
X-Robots-Tag:noindex
X-PUBLISHED-TTL:PT1H
BEGIN:VTIMEZONE
TZID:America/New_York
BEGIN:DAYLIGHT
TZOFFSETFROM:-0500
TZOFFSETTO:-0400
TZNAME:EDT
DTSTART:20250309T070000
END:DAYLIGHT
BEGIN:STANDARD
TZOFFSETFROM:-0400
TZOFFSETTO:-0500
TZNAME:EST
DTSTART:20251102T060000
END:STANDARD
BEGIN:DAYLIGHT
TZOFFSETFROM:-0500
TZOFFSETTO:-0400
TZNAME:EDT
DTSTART:20260308T070000
END:DAYLIGHT
BEGIN:STANDARD
TZOFFSETFROM:-0400
TZOFFSETTO:-0500
TZNAME:EST
DTSTART:20261101T060000
END:STANDARD
BEGIN:DAYLIGHT
TZOFFSETFROM:-0500
TZOFFSETTO:-0400
TZNAME:EDT
DTSTART:20270314T070000
END:DAYLIGHT
BEGIN:STANDARD
TZOFFSETFROM:-0400
TZOFFSETTO:-0500
TZNAME:EST
DTSTART:20271107T060000
END:STANDARD
END:VTIMEZONE
BEGIN:VEVENT
DTSTART;TZID=America/New_York:20260213T091500
DTEND;TZID=America/New_York:20260213T110000
DTSTAMP:20260424T011347
CREATED:20251216T011534Z
LAST-MODIFIED:20260207T204753Z
UID:10000401-1770974100-1770980400@www.fairwindsgolf.com
SUMMARY:Co Ed Clinic: Chipping & Around the Green
DESCRIPTION:Loading…
URL:https://www.fairwindsgolf.com/event/co-ed-clinic-chipping-around-the-green-10/
ATTACH;FMTTYPE=image/png:https://www.fairwindsgolf.com/wp-content/uploads/sites/8875/2025/09/Screenshot-2025-09-30-at-9.54.37-PM.png
END:VEVENT
BEGIN:VEVENT
DTSTART;TZID=America/New_York:20260213T110000
DTEND;TZID=America/New_York:20260213T120000
DTSTAMP:20260424T011347
CREATED:20260204T210228Z
LAST-MODIFIED:20260204T210228Z
UID:10000465-1770980400-1770984000@www.fairwindsgolf.com
SUMMARY:First Tee Junior Homeschool Program
DESCRIPTION:
URL:https://www.fairwindsgolf.com/event/first-tee-junior-homeschool-program/
END:VEVENT
END:VCALENDAR