BEGIN:VCALENDAR
VERSION:2.0
PRODID:-//Fairwinds Golf Course - ECPv6.15.18//NONSGML v1.0//EN
CALSCALE:GREGORIAN
METHOD:PUBLISH
X-ORIGINAL-URL:https://www.fairwindsgolf.com
X-WR-CALDESC:Events for Fairwinds Golf Course
REFRESH-INTERVAL;VALUE=DURATION:PT1H
X-Robots-Tag:noindex
X-PUBLISHED-TTL:PT1H
BEGIN:VTIMEZONE
TZID:America/New_York
BEGIN:DAYLIGHT
TZOFFSETFROM:-0500
TZOFFSETTO:-0400
TZNAME:EDT
DTSTART:20250309T070000
END:DAYLIGHT
BEGIN:STANDARD
TZOFFSETFROM:-0400
TZOFFSETTO:-0500
TZNAME:EST
DTSTART:20251102T060000
END:STANDARD
BEGIN:DAYLIGHT
TZOFFSETFROM:-0500
TZOFFSETTO:-0400
TZNAME:EDT
DTSTART:20260308T070000
END:DAYLIGHT
BEGIN:STANDARD
TZOFFSETFROM:-0400
TZOFFSETTO:-0500
TZNAME:EST
DTSTART:20261101T060000
END:STANDARD
BEGIN:DAYLIGHT
TZOFFSETFROM:-0500
TZOFFSETTO:-0400
TZNAME:EDT
DTSTART:20270314T070000
END:DAYLIGHT
BEGIN:STANDARD
TZOFFSETFROM:-0400
TZOFFSETTO:-0500
TZNAME:EST
DTSTART:20271107T060000
END:STANDARD
END:VTIMEZONE
BEGIN:VEVENT
DTSTART;TZID=America/New_York:20260115T143000
DTEND;TZID=America/New_York:20260115T170000
DTSTAMP:20260424T023810
CREATED:20260101T170157Z
LAST-MODIFIED:20260109T174354Z
UID:10000439-1768487400-1768496400@www.fairwindsgolf.com
SUMMARY:Fore The Fun Ladies
DESCRIPTION:Please fill out the form to pre-register for this Group.  \nAn email will be officially sent on January 10th at 4pm from Golf Genius. \nLoading…
URL:https://www.fairwindsgolf.com/event/fore-the-fun-ladies/
END:VEVENT
END:VCALENDAR