BEGIN:VCALENDAR
VERSION:2.0
PRODID:-//Fairwinds Golf Course - ECPv6.15.18//NONSGML v1.0//EN
CALSCALE:GREGORIAN
METHOD:PUBLISH
X-ORIGINAL-URL:https://www.fairwindsgolf.com
X-WR-CALDESC:Events for Fairwinds Golf Course
REFRESH-INTERVAL;VALUE=DURATION:PT1H
X-Robots-Tag:noindex
X-PUBLISHED-TTL:PT1H
BEGIN:VTIMEZONE
TZID:America/New_York
BEGIN:DAYLIGHT
TZOFFSETFROM:-0500
TZOFFSETTO:-0400
TZNAME:EDT
DTSTART:20240310T070000
END:DAYLIGHT
BEGIN:STANDARD
TZOFFSETFROM:-0400
TZOFFSETTO:-0500
TZNAME:EST
DTSTART:20241103T060000
END:STANDARD
BEGIN:DAYLIGHT
TZOFFSETFROM:-0500
TZOFFSETTO:-0400
TZNAME:EDT
DTSTART:20250309T070000
END:DAYLIGHT
BEGIN:STANDARD
TZOFFSETFROM:-0400
TZOFFSETTO:-0500
TZNAME:EST
DTSTART:20251102T060000
END:STANDARD
BEGIN:DAYLIGHT
TZOFFSETFROM:-0500
TZOFFSETTO:-0400
TZNAME:EDT
DTSTART:20260308T070000
END:DAYLIGHT
BEGIN:STANDARD
TZOFFSETFROM:-0400
TZOFFSETTO:-0500
TZNAME:EST
DTSTART:20261101T060000
END:STANDARD
END:VTIMEZONE
BEGIN:VEVENT
DTSTART;VALUE=DATE:20251101
DTEND;VALUE=DATE:20251103
DTSTAMP:20260424T051624
CREATED:20251006T180503Z
LAST-MODIFIED:20251006T183432Z
UID:10000362-1761955200-1762127999@www.fairwindsgolf.com
SUMMARY:30th Annual St Lucie County Amateur Championship
DESCRIPTION:Register Here
URL:https://www.fairwindsgolf.com/event/30th-annual-st-lucie-county-amateur-championship/
ATTACH;FMTTYPE=image/png:https://www.fairwindsgolf.com/wp-content/uploads/sites/8875/2025/09/Screenshot-2025-09-19-at-9.18.43-AM.png
END:VEVENT
END:VCALENDAR