BEGIN:VCALENDAR
VERSION:2.0
PRODID:-//Fairwinds Golf Course - ECPv6.15.18//NONSGML v1.0//EN
CALSCALE:GREGORIAN
METHOD:PUBLISH
X-WR-CALNAME:Fairwinds Golf Course
X-ORIGINAL-URL:https://www.fairwindsgolf.com
X-WR-CALDESC:Events for Fairwinds Golf Course
REFRESH-INTERVAL;VALUE=DURATION:PT1H
X-Robots-Tag:noindex
X-PUBLISHED-TTL:PT1H
BEGIN:VTIMEZONE
TZID:America/New_York
BEGIN:DAYLIGHT
TZOFFSETFROM:-0500
TZOFFSETTO:-0400
TZNAME:EDT
DTSTART:20240310T070000
END:DAYLIGHT
BEGIN:STANDARD
TZOFFSETFROM:-0400
TZOFFSETTO:-0500
TZNAME:EST
DTSTART:20241103T060000
END:STANDARD
BEGIN:DAYLIGHT
TZOFFSETFROM:-0500
TZOFFSETTO:-0400
TZNAME:EDT
DTSTART:20250309T070000
END:DAYLIGHT
BEGIN:STANDARD
TZOFFSETFROM:-0400
TZOFFSETTO:-0500
TZNAME:EST
DTSTART:20251102T060000
END:STANDARD
BEGIN:DAYLIGHT
TZOFFSETFROM:-0500
TZOFFSETTO:-0400
TZNAME:EDT
DTSTART:20260308T070000
END:DAYLIGHT
BEGIN:STANDARD
TZOFFSETFROM:-0400
TZOFFSETTO:-0500
TZNAME:EST
DTSTART:20261101T060000
END:STANDARD
END:VTIMEZONE
BEGIN:VEVENT
DTSTART;TZID=America/New_York:20250609T083000
DTEND;TZID=America/New_York:20250613T150000
DTSTAMP:20260424T095437
CREATED:20250128T160028Z
LAST-MODIFIED:20250326T164847Z
UID:10000307-1749457800-1749826800@www.fairwindsgolf.com
SUMMARY:Junior Golf Camp
DESCRIPTION:To pre-register please use the form below:\nLoading… \n  \n  \n \n 
URL:https://www.fairwindsgolf.com/event/junior-golf-camp/
END:VEVENT
BEGIN:VEVENT
DTSTART;TZID=America/New_York:20250610T150000
DTEND;TZID=America/New_York:20250610T160000
DTSTAMP:20260424T095437
CREATED:20250603T155102Z
LAST-MODIFIED:20250608T134146Z
UID:10000341-1749567600-1749571200@www.fairwindsgolf.com
SUMMARY:Ladies Learn & Play- Currently Full
DESCRIPTION:This class is currently full.
URL:https://www.fairwindsgolf.com/event/ladies-learn-play/
ATTACH;FMTTYPE=image/jpeg:https://www.fairwindsgolf.com/wp-content/uploads/sites/8875/2025/06/1.jpg
END:VEVENT
END:VCALENDAR