BEGIN:VCALENDAR
VERSION:2.0
PRODID:-//Fairwinds Golf Course - ECPv6.15.18//NONSGML v1.0//EN
CALSCALE:GREGORIAN
METHOD:PUBLISH
X-WR-CALNAME:Fairwinds Golf Course
X-ORIGINAL-URL:https://www.fairwindsgolf.com
X-WR-CALDESC:Events for Fairwinds Golf Course
REFRESH-INTERVAL;VALUE=DURATION:PT1H
X-Robots-Tag:noindex
X-PUBLISHED-TTL:PT1H
BEGIN:VTIMEZONE
TZID:America/New_York
BEGIN:DAYLIGHT
TZOFFSETFROM:-0500
TZOFFSETTO:-0400
TZNAME:EDT
DTSTART:20240310T070000
END:DAYLIGHT
BEGIN:STANDARD
TZOFFSETFROM:-0400
TZOFFSETTO:-0500
TZNAME:EST
DTSTART:20241103T060000
END:STANDARD
BEGIN:DAYLIGHT
TZOFFSETFROM:-0500
TZOFFSETTO:-0400
TZNAME:EDT
DTSTART:20250309T070000
END:DAYLIGHT
BEGIN:STANDARD
TZOFFSETFROM:-0400
TZOFFSETTO:-0500
TZNAME:EST
DTSTART:20251102T060000
END:STANDARD
BEGIN:DAYLIGHT
TZOFFSETFROM:-0500
TZOFFSETTO:-0400
TZNAME:EDT
DTSTART:20260308T070000
END:DAYLIGHT
BEGIN:STANDARD
TZOFFSETFROM:-0400
TZOFFSETTO:-0500
TZNAME:EST
DTSTART:20261101T060000
END:STANDARD
END:VTIMEZONE
BEGIN:VEVENT
DTSTART;TZID=America/New_York:20250107T140000
DTEND;TZID=America/New_York:20250107T150000
DTSTAMP:20260424T030340
CREATED:20240830T125635Z
LAST-MODIFIED:20250106T164528Z
UID:10000185-1736258400-1736262000@www.fairwindsgolf.com
SUMMARY:Ladies Clinic- CURRENTLY FULL
DESCRIPTION:CLASS IS CURRENTLY FULL\, TO BE ADDED TO THE WAITLIST PLEASE CONTACT ANNY. \n  \nTime: 2:00 pm to 3:00 pm \nSpace is limited. Sign-ups open Jan. 1 at 11:00 am EST. \nFor questions or concerns please contact Anny Abreu .  \nPh: 772-462-2722 \n*Payment must be cash.
URL:https://www.fairwindsgolf.com/event/ladies-clinic-25/
END:VEVENT
END:VCALENDAR