BEGIN:VCALENDAR
VERSION:2.0
PRODID:-//Fairwinds Golf Course - ECPv6.15.18//NONSGML v1.0//EN
CALSCALE:GREGORIAN
METHOD:PUBLISH
X-WR-CALNAME:Fairwinds Golf Course
X-ORIGINAL-URL:https://www.fairwindsgolf.com
X-WR-CALDESC:Events for Fairwinds Golf Course
REFRESH-INTERVAL;VALUE=DURATION:PT1H
X-Robots-Tag:noindex
X-PUBLISHED-TTL:PT1H
BEGIN:VTIMEZONE
TZID:America/New_York
BEGIN:DAYLIGHT
TZOFFSETFROM:-0500
TZOFFSETTO:-0400
TZNAME:EDT
DTSTART:20230312T070000
END:DAYLIGHT
BEGIN:STANDARD
TZOFFSETFROM:-0400
TZOFFSETTO:-0500
TZNAME:EST
DTSTART:20231105T060000
END:STANDARD
BEGIN:DAYLIGHT
TZOFFSETFROM:-0500
TZOFFSETTO:-0400
TZNAME:EDT
DTSTART:20240310T070000
END:DAYLIGHT
BEGIN:STANDARD
TZOFFSETFROM:-0400
TZOFFSETTO:-0500
TZNAME:EST
DTSTART:20241103T060000
END:STANDARD
BEGIN:DAYLIGHT
TZOFFSETFROM:-0500
TZOFFSETTO:-0400
TZNAME:EDT
DTSTART:20250309T070000
END:DAYLIGHT
BEGIN:STANDARD
TZOFFSETFROM:-0400
TZOFFSETTO:-0500
TZNAME:EST
DTSTART:20251102T060000
END:STANDARD
END:VTIMEZONE
BEGIN:VEVENT
DTSTART;TZID=America/New_York:20241205T090000
DTEND;TZID=America/New_York:20241205T100000
DTSTAMP:20260424T014614
CREATED:20241105T161247Z
LAST-MODIFIED:20241105T161247Z
UID:10000279-1733389200-1733392800@www.fairwindsgolf.com
SUMMARY:Junior Homeschool Program Ages 5 to 11
DESCRIPTION:Loading…
URL:https://www.fairwindsgolf.com/event/junior-homeschool-program-ages-5-to-11-2/
END:VEVENT
BEGIN:VEVENT
DTSTART;TZID=America/New_York:20241205T101500
DTEND;TZID=America/New_York:20241205T111500
DTSTAMP:20260424T014614
CREATED:20241105T161340Z
LAST-MODIFIED:20241105T161340Z
UID:10000280-1733393700-1733397300@www.fairwindsgolf.com
SUMMARY:Junior Homeschool Program Ages 12 to 15
DESCRIPTION:Loading…
URL:https://www.fairwindsgolf.com/event/junior-homeschool-program-ages-12-to-15/
END:VEVENT
END:VCALENDAR