BEGIN:VCALENDAR
VERSION:2.0
PRODID:-//Fairwinds Golf Course - ECPv6.15.18//NONSGML v1.0//EN
CALSCALE:GREGORIAN
METHOD:PUBLISH
X-WR-CALNAME:Fairwinds Golf Course
X-ORIGINAL-URL:https://www.fairwindsgolf.com
X-WR-CALDESC:Events for Fairwinds Golf Course
REFRESH-INTERVAL;VALUE=DURATION:PT1H
X-Robots-Tag:noindex
X-PUBLISHED-TTL:PT1H
BEGIN:VTIMEZONE
TZID:America/New_York
BEGIN:DAYLIGHT
TZOFFSETFROM:-0500
TZOFFSETTO:-0400
TZNAME:EDT
DTSTART:20230312T070000
END:DAYLIGHT
BEGIN:STANDARD
TZOFFSETFROM:-0400
TZOFFSETTO:-0500
TZNAME:EST
DTSTART:20231105T060000
END:STANDARD
BEGIN:DAYLIGHT
TZOFFSETFROM:-0500
TZOFFSETTO:-0400
TZNAME:EDT
DTSTART:20240310T070000
END:DAYLIGHT
BEGIN:STANDARD
TZOFFSETFROM:-0400
TZOFFSETTO:-0500
TZNAME:EST
DTSTART:20241103T060000
END:STANDARD
BEGIN:DAYLIGHT
TZOFFSETFROM:-0500
TZOFFSETTO:-0400
TZNAME:EDT
DTSTART:20250309T070000
END:DAYLIGHT
BEGIN:STANDARD
TZOFFSETFROM:-0400
TZOFFSETTO:-0500
TZNAME:EST
DTSTART:20251102T060000
END:STANDARD
END:VTIMEZONE
BEGIN:VEVENT
DTSTART;TZID=America/New_York:20241017T090000
DTEND;TZID=America/New_York:20241017T100000
DTSTAMP:20260423T231420
CREATED:20240917T161050Z
LAST-MODIFIED:20241017T124305Z
UID:10000260-1729155600-1729159200@www.fairwindsgolf.com
SUMMARY:Junior Homeschool Program: Ages 5-11- CLASS CANCELED
DESCRIPTION:To register use the form below:\nLoading… \n 
URL:https://www.fairwindsgolf.com/event/junior-homeschool-program-ages-5-11-3/
END:VEVENT
BEGIN:VEVENT
DTSTART;TZID=America/New_York:20241017T101500
DTEND;TZID=America/New_York:20241017T111500
DTSTAMP:20260423T231420
CREATED:20240917T161956Z
LAST-MODIFIED:20241017T124331Z
UID:10000266-1729160100-1729163700@www.fairwindsgolf.com
SUMMARY:Junior Homeschool Program: Ages 12-15- Class Canceled
DESCRIPTION:To register use the form below:\nLoading…
URL:https://www.fairwindsgolf.com/event/junior-homeschool-program-ages-12-15-3/
END:VEVENT
END:VCALENDAR