BEGIN:VCALENDAR
VERSION:2.0
PRODID:-//Fairwinds Golf Course - ECPv6.15.18//NONSGML v1.0//EN
CALSCALE:GREGORIAN
METHOD:PUBLISH
X-WR-CALNAME:Fairwinds Golf Course
X-ORIGINAL-URL:https://www.fairwindsgolf.com
X-WR-CALDESC:Events for Fairwinds Golf Course
REFRESH-INTERVAL;VALUE=DURATION:PT1H
X-Robots-Tag:noindex
X-PUBLISHED-TTL:PT1H
BEGIN:VTIMEZONE
TZID:America/New_York
BEGIN:DAYLIGHT
TZOFFSETFROM:-0500
TZOFFSETTO:-0400
TZNAME:EDT
DTSTART:20230312T070000
END:DAYLIGHT
BEGIN:STANDARD
TZOFFSETFROM:-0400
TZOFFSETTO:-0500
TZNAME:EST
DTSTART:20231105T060000
END:STANDARD
BEGIN:DAYLIGHT
TZOFFSETFROM:-0500
TZOFFSETTO:-0400
TZNAME:EDT
DTSTART:20240310T070000
END:DAYLIGHT
BEGIN:STANDARD
TZOFFSETFROM:-0400
TZOFFSETTO:-0500
TZNAME:EST
DTSTART:20241103T060000
END:STANDARD
BEGIN:DAYLIGHT
TZOFFSETFROM:-0500
TZOFFSETTO:-0400
TZNAME:EDT
DTSTART:20250309T070000
END:DAYLIGHT
BEGIN:STANDARD
TZOFFSETFROM:-0400
TZOFFSETTO:-0500
TZNAME:EST
DTSTART:20251102T060000
END:STANDARD
END:VTIMEZONE
BEGIN:VEVENT
DTSTART;TZID=America/New_York:20241010T090000
DTEND;TZID=America/New_York:20241010T100000
DTSTAMP:20260423T231451
CREATED:20240917T153823Z
LAST-MODIFIED:20240918T160508Z
UID:10000259-1728550800-1728554400@www.fairwindsgolf.com
SUMMARY:Junior Homeschool Program Ages 5-11
DESCRIPTION:To register use the link below:\nLoading…
URL:https://www.fairwindsgolf.com/event/junior-homeschool-program-ages-5-11-2/
END:VEVENT
BEGIN:VEVENT
DTSTART;TZID=America/New_York:20241010T101500
DTEND;TZID=America/New_York:20241010T111500
DTSTAMP:20260423T231451
CREATED:20240917T161825Z
LAST-MODIFIED:20240917T161825Z
UID:10000265-1728555300-1728558900@www.fairwindsgolf.com
SUMMARY:Junior Homeschool Program: Ages 12 - 15
DESCRIPTION:To register please use the form below:
URL:https://www.fairwindsgolf.com/event/junior-homeschool-program-ages-12-15-2/
END:VEVENT
END:VCALENDAR